BEGIN:VCALENDAR
VERSION:2.0
PRODID:-//Trapani Film Festival - ECPv6.2.3.2//NONSGML v1.0//EN
CALSCALE:GREGORIAN
METHOD:PUBLISH
X-WR-CALNAME:Trapani Film Festival
X-ORIGINAL-URL:https://www.trapanifilmfestival.com
X-WR-CALDESC:Eventi per Trapani Film Festival
REFRESH-INTERVAL;VALUE=DURATION:PT1H
X-Robots-Tag:noindex
X-PUBLISHED-TTL:PT1H
BEGIN:VTIMEZONE
TZID:Europe/Rome
BEGIN:DAYLIGHT
TZOFFSETFROM:+0100
TZOFFSETTO:+0200
TZNAME:CEST
DTSTART:20250330T010000
END:DAYLIGHT
BEGIN:STANDARD
TZOFFSETFROM:+0200
TZOFFSETTO:+0100
TZNAME:CET
DTSTART:20251026T010000
END:STANDARD
END:VTIMEZONE
BEGIN:VEVENT
DTSTART;TZID=Europe/Rome:20250824T203000
DTEND;TZID=Europe/Rome:20250825T010000
DTSTAMP:20260425T153230
CREATED:20250714T211133Z
LAST-MODIFIED:20250816T092005Z
UID:134-1756067400-1756083600@www.trapanifilmfestival.com
SUMMARY:Sud Sound System in concerto
DESCRIPTION:GLI OSPITI DELLA SERATA\n\n				\n	PIFVybesIlan MuccinoSud Sound SystemSimona Cavallari. Foto di Marzia FerroneCarmen GiardinaSara Baccarini\n\n 
URL:https://www.trapanifilmfestival.com/event/sud-sound-system-in-concerto/
LOCATION:Villa Margherita\, Viale Regina Margherita\, Trapani\, TP\, 91100\, Italy
ATTACH;FMTTYPE=image/jpeg:https://www.trapanifilmfestival.com/wp-content/uploads/2025/07/WhatsApp-Image-2025-07-16-at-18.52.53-e1752684994207.jpeg
END:VEVENT
END:VCALENDAR